BEGIN:VCALENDAR
VERSION:2.0
PRODID:www.musikkollegium.ch
X-WR-TIMEZONE:Europe/Zurich
BEGIN:VTIMEZONE
TZID:Europe/Zurich
X-LIC-LOCATION:Europe/Zurich
BEGIN:DAYLIGHT
TZNAME:CEST
TZOFFSETFROM:+0100
TZOFFSETTO:+0200
DTSTART:19810329T030000
RRULE:FREQ=YEARLY;INTERVAL=1;BYMONTH=3;BYDAY=-1SU
END:DAYLIGHT
BEGIN:STANDARD
TZNAME:CET
TZOFFSETFROM:+0200
TZOFFSETTO:+0100
DTSTART:19961027T030000
RRULE:FREQ=YEARLY;INTERVAL=1;BYMONTH=10;BYDAY=-1SU
END:STANDARD
END:VTIMEZONE
BEGIN:VEVENT
UID:69ebff8b0be16
DTSTART;TZID=Europe/Zurich:20260514T180000
SEQUENCE:0
TRANSP:OPAQUE
DTEND;TZID=Europe/Zurich:20260514T180000
LOCATION:Stadthaus
SUMMARY:Klangvolle Zukunft
CLASS:PUBLIC
DESCRIPTION:VIOLINE: Laura Kim \nYelyzaveta Zubenko \nVIOLA: Paloma Serrano
  García \nVIOLONCELLO: Tiphaine Lucas \nKONTRABASS: Natacha Stumpe \nOBOE
 : Léane Plain \nFLöTE: Evdokia Kolyasina \nKLARINETTE: Geukchan Lee \nFA
 GOTT: Clara Hinterholzer \nHORN:  N.N. \n\n\nFerdinand Huber \n«Lueget\, 
 vo Berg und Tal» bearbeitet für Dezett von Léane Plain \n\nModest Musso
 rgsky \n«Bilder einer Ausstellung» bearbeitet für Holzbläserquintett v
 on Joachim Linckelmann \n\nSamuel Barber \nMolto adagio aus dem Streichqua
 rtett b-Moll\, op. 11 «Adagio for Strings» \n\nFranz Schubert \nOktett f
 ür Klarinette\, Horn\, Fagott und Streichquintett F-Dur\, D 803 \n\nBorys
  Lyatoshynsky \nStreichquartett A-Dur\, op.  4 \n\n trad. \n«Arirang» Ko
 reanisches Volkslied bearbeitet für Nonett von Léane Plain \n\nManuel de
  Falla \n«Danza del molinero» aus «El sombrero de tres picos» für Str
 eichquartett \n\nJean Françaix \nDixtuor \n\n
DTSTAMP:20260424T234059Z
END:VEVENT
END:VCALENDAR